BEGIN:VCALENDAR
VERSION:2.0
PRODID:-//ifat - ECPv6.15.20//NONSGML v1.0//EN
CALSCALE:GREGORIAN
METHOD:PUBLISH
X-ORIGINAL-URL:https://www.ifat-vannes.fr
X-WR-CALDESC:Évènements pour ifat
REFRESH-INTERVAL;VALUE=DURATION:PT1H
X-Robots-Tag:noindex
X-PUBLISHED-TTL:PT1H
BEGIN:VTIMEZONE
TZID:Europe/Paris
BEGIN:DAYLIGHT
TZOFFSETFROM:+0100
TZOFFSETTO:+0200
TZNAME:CEST
DTSTART:20250330T010000
END:DAYLIGHT
BEGIN:STANDARD
TZOFFSETFROM:+0200
TZOFFSETTO:+0100
TZNAME:CET
DTSTART:20251026T010000
END:STANDARD
BEGIN:DAYLIGHT
TZOFFSETFROM:+0100
TZOFFSETTO:+0200
TZNAME:CEST
DTSTART:20260329T010000
END:DAYLIGHT
BEGIN:STANDARD
TZOFFSETFROM:+0200
TZOFFSETTO:+0100
TZNAME:CET
DTSTART:20261025T010000
END:STANDARD
BEGIN:DAYLIGHT
TZOFFSETFROM:+0100
TZOFFSETTO:+0200
TZNAME:CEST
DTSTART:20270328T010000
END:DAYLIGHT
BEGIN:STANDARD
TZOFFSETFROM:+0200
TZOFFSETTO:+0100
TZNAME:CET
DTSTART:20271031T010000
END:STANDARD
END:VTIMEZONE
BEGIN:VEVENT
DTSTART;TZID=Europe/Paris:20260124T180000
DTEND;TZID=Europe/Paris:20260124T220000
DTSTAMP:20260424T005110
CREATED:20240929T095521Z
LAST-MODIFIED:20260110T103852Z
UID:2910-1769277600-1769292000@www.ifat-vannes.fr
SUMMARY:Remise des diplômes promo 2025
DESCRIPTION:Remise des diplômes promo 2025Chers diplômés\, professeurs\, parents et partenaires\, \nC’est avec une grande fierté que l’IFAT vous invite à assister à la cérémonie de remise des diplômes de la promotion de cinquième année. Cet événement marquant couronne le parcours académique de nos étudiants\, désormais prêts à entrer dans le monde professionnel en tant qu’architectes d’intérieur. \nLe rendez-vous est fixé en date du 24 janvier 2026\, au sein de notre établissement. Au cours de cette cérémonie\, nous célébrerons le travail\, l’engagement et la créativité de nos diplômés\, qui ont su relever les défis de ces cinq années de formation rigoureuse. \nLes lauréats recevront leurs diplômes en présence de leurs proches\, des membres du corps professoral et des invités spéciaux\, parmi lesquels des professionnels de renom dans le domaine de l’architecture intérieure. Ce sera également l’occasion de partager des moments d’échanges\, d’inspiration et de reconnaissance mutuelle. \nNous vous attendons nombreux pour applaudir nos diplômés et célébrer cette étape clé de leur carrière. Un cocktail suivra la cérémonie afin de prolonger cette journée de festivités dans une ambiance conviviale et chaleureuse. \nFélicitations à la promotion 2025\, et à très bientôt pour cette célébration mémorable ! \nL’École Supérieure d’Architecture Intérieure de Bretagne
URL:https://www.ifat-vannes.fr/event/remise-des-diplomes/
LOCATION:IFAT\, 9\, Rue Blaise Pascal\, Plescop\, Morbihan\, 56890\, France
CATEGORIES:Evénement
ATTACH;FMTTYPE=image/jpeg:https://www.ifat-vannes.fr/wp-content/uploads/2024/08/vie-scolaire-21.jpg
ORGANIZER;CN="IFAT":MAILTO:contact@ecole-ifat.fr
END:VEVENT
END:VCALENDAR