BEGIN:VCALENDAR
VERSION:2.0
PRODID:-//ifat - ECPv6.15.20//NONSGML v1.0//EN
CALSCALE:GREGORIAN
METHOD:PUBLISH
X-WR-CALNAME:ifat
X-ORIGINAL-URL:https://www.ifat-vannes.fr
X-WR-CALDESC:Évènements pour ifat
REFRESH-INTERVAL;VALUE=DURATION:PT1H
X-Robots-Tag:noindex
X-PUBLISHED-TTL:PT1H
BEGIN:VTIMEZONE
TZID:Europe/Paris
BEGIN:DAYLIGHT
TZOFFSETFROM:+0100
TZOFFSETTO:+0200
TZNAME:CEST
DTSTART:20250330T010000
END:DAYLIGHT
BEGIN:STANDARD
TZOFFSETFROM:+0200
TZOFFSETTO:+0100
TZNAME:CET
DTSTART:20251026T010000
END:STANDARD
BEGIN:DAYLIGHT
TZOFFSETFROM:+0100
TZOFFSETTO:+0200
TZNAME:CEST
DTSTART:20260329T010000
END:DAYLIGHT
BEGIN:STANDARD
TZOFFSETFROM:+0200
TZOFFSETTO:+0100
TZNAME:CET
DTSTART:20261025T010000
END:STANDARD
BEGIN:DAYLIGHT
TZOFFSETFROM:+0100
TZOFFSETTO:+0200
TZNAME:CEST
DTSTART:20270328T010000
END:DAYLIGHT
BEGIN:STANDARD
TZOFFSETFROM:+0200
TZOFFSETTO:+0100
TZNAME:CET
DTSTART:20271031T010000
END:STANDARD
END:VTIMEZONE
BEGIN:VEVENT
DTSTART;VALUE=DATE:20260616
DTEND;VALUE=DATE:20260617
DTSTAMP:20260421T171546
CREATED:20260420T131240Z
LAST-MODIFIED:20260420T131432Z
UID:4068-1781568000-1781654399@www.ifat-vannes.fr
SUMMARY:Le grand jury
DESCRIPTION:Le grand juryLe grand jury c’est le moment tant attendu et quelques peu redouté par nos étudiants. \nC’est avant tout un immense plaisir de voir nos jeunes devenir des professionnels et une grande fierté de les observer le démontrer avec un tel brio auprès d’un jury de toute les branches du métier. Alors cette année encore\, combien de félicitation du jury ? et peut-être encore une mention excellent !!! C’est le 16 juin 2026 que cela se joue et les projet sont visibles à l’IFAT jusqu’à la fin du mois de juin 2026.
URL:https://www.ifat-vannes.fr/event/le-grand-jury/
LOCATION:IFAT\, 9\, Rue Blaise Pascal\, Plescop\, Morbihan\, 56890\, France
CATEGORIES:Evénement
ATTACH;FMTTYPE=image/jpeg:https://www.ifat-vannes.fr/wp-content/uploads/2026/04/IMG-20260417-WA0012.jpg
ORGANIZER;CN="IFAT":MAILTO:contact@ecole-ifat.fr
END:VEVENT
END:VCALENDAR